BEGIN:VCALENDAR
VERSION:2.0
PRODID:-//Tell TVL - ECPv6.15.20//NONSGML v1.0//EN
CALSCALE:GREGORIAN
METHOD:PUBLISH
X-WR-CALNAME:Tell TVL
X-ORIGINAL-URL:https://telltvl.co.uk
X-WR-CALDESC:Events for Tell TVL
REFRESH-INTERVAL;VALUE=DURATION:PT1H
X-Robots-Tag:noindex
X-PUBLISHED-TTL:PT1H
BEGIN:VTIMEZONE
TZID:UTC
BEGIN:STANDARD
TZOFFSETFROM:+0000
TZOFFSETTO:+0000
TZNAME:UTC
DTSTART:20250101T000000
END:STANDARD
END:VTIMEZONE
BEGIN:VEVENT
DTSTART;VALUE=DATE:20260206
DTEND;VALUE=DATE:20260207
DTSTAMP:20260423T231207
CREATED:20260205T124436Z
LAST-MODIFIED:20260205T124436Z
UID:9233-1770336000-1770422399@telltvl.co.uk
SUMMARY:Jewson St Austell Tool Marking Event
DESCRIPTION:Grab a tool marking kit at the Grand opening of the Jewson branch in St Austell\, Cornwall! \nProtect your livelihood and while you’re there\, enjoy: \n\nLive Music\nFree Food and Drink\nGuided Tours\nProduct Demos\n\nPut the date in your calendars – 6th February 7:30am – 1pm
URL:https://telltvl.co.uk/our-event/jewson-st-austell-tool-marking-event/
LOCATION:Jewson St Austell\, Cornwall\, Manfield Way Holmbush Ind Estate\, St. Austell\, Cornwall\, PL25 3HQ\, United Kingdom
CATEGORIES:Tool Marking Events
END:VEVENT
BEGIN:VEVENT
DTSTART;TZID=UTC:20260228T130000
DTEND;TZID=UTC:20260228T170000
DTSTAMP:20260423T231207
CREATED:20260223T133033Z
LAST-MODIFIED:20260223T133036Z
UID:9249-1772283600-1772298000@telltvl.co.uk
SUMMARY:Havering Crime Prevention Event
DESCRIPTION:Join us this Saturday as we attend the Havering Crime Prevention Event alongside Police and Bike Trac. We’ll have our fully branded security van on display\, showcasing practical ways to keep your van and tools safe\, secure and protected from theft. \nIf you’re a tradesperson or van owner\, this is a great opportunity to get expert advice on van security\, see effective protection solutions in action. \n\nRainham Tesco Car Park\, Bridge Road\, RM13 9YZ\nSaturday 28th February\nFrom 1:00pm\n\nWe look forward to seeing you there.
URL:https://telltvl.co.uk/our-event/havering-crime-prevention-event/
LOCATION:Rainham Tesco Car Park\, Bridge Road\, Rainham\, Havering\, RM13 9YZ\, United Kingdom
CATEGORIES:Tool Marking Events
ATTACH;FMTTYPE=image/jpeg:https://telltvl.co.uk/wp-content/uploads/2026/02/Rainham-Crime-Prevention-Event-2026.jpg
END:VEVENT
BEGIN:VEVENT
DTSTART;TZID=UTC:20260302T080000
DTEND;TZID=UTC:20260302T130000
DTSTAMP:20260423T231207
CREATED:20260225T094023Z
LAST-MODIFIED:20260225T093722Z
UID:9254-1772438400-1772456400@telltvl.co.uk
SUMMARY:Thames Valley Police & PCC | Tool Marking Event
DESCRIPTION:Tool theft is a growing problem for tradespeople\, businesses\, and local authorities. SelectaDNA Tool Marking Events provide an effective way to protect valuable equipment\, deter criminals\, and support police in recovering stolen property.  \nUsing our advanced forensic marking technology\, tools are permanently marked with a unique DNA code and microdots\, linking them back to the rightful owner. This community event raises awareness of crime prevention\, helps to reduce theft\, and gives people peace of mind. \nBy attending a Tool Marking Event\, you’ll increase security\, safeguard your livelihood\, and make stolen tools harder to sell.
URL:https://telltvl.co.uk/our-event/thames-valley-police-pcc-tool-marking-event/
LOCATION:Screwfix Bletchley\, Unit 4 Bilton Road\, Milton Keynes\, Buckinghamshire\, MK1 1EQ\, United Kingdom
CATEGORIES:Tool Marking Events
ATTACH;FMTTYPE=image/png:https://telltvl.co.uk/wp-content/uploads/2026/02/selectadna-logo_20180504.png
END:VEVENT
BEGIN:VEVENT
DTSTART;TZID=UTC:20260311T080000
DTEND;TZID=UTC:20260311T130000
DTSTAMP:20260423T231207
CREATED:20260225T094016Z
LAST-MODIFIED:20260225T094147Z
UID:9268-1773216000-1773234000@telltvl.co.uk
SUMMARY:Thames Valley Police & PCC | Tool Marking Event
DESCRIPTION:Tool theft is a growing problem for tradespeople\, businesses\, and local authorities. SelectaDNA Tool Marking Events provide an effective way to protect valuable equipment\, deter criminals\, and support police in recovering stolen property.  \nUsing our advanced forensic marking technology\, tools are permanently marked with a unique DNA code and microdots\, linking them back to the rightful owner. This community event raises awareness of crime prevention\, helps to reduce theft\, and gives people peace of mind. \nBy attending a Tool Marking Event\, you’ll increase security\, safeguard your livelihood\, and make stolen tools harder to sell.
URL:https://telltvl.co.uk/our-event/thames-valley-police-pcc-tool-marking-event-2/
LOCATION:Screwfix Reading\, Hyperion Way\, Unit 9 Hyperion Way\, Reading\, Berkshire\, RG2 0HG\, United Kingdom
CATEGORIES:Tool Marking Events
ATTACH;FMTTYPE=image/png:https://telltvl.co.uk/wp-content/uploads/2026/02/selectadna-logo_20180504.png
END:VEVENT
BEGIN:VEVENT
DTSTART;TZID=UTC:20260324T080000
DTEND;TZID=UTC:20260324T130000
DTSTAMP:20260423T231207
CREATED:20260225T094053Z
LAST-MODIFIED:20260225T094220Z
UID:9270-1774339200-1774357200@telltvl.co.uk
SUMMARY:Thames Valley Police & PCC | Tool Marking Event
DESCRIPTION:Tool theft is a growing problem for tradespeople\, businesses\, and local authorities. SelectaDNA Tool Marking Events provide an effective way to protect valuable equipment\, deter criminals\, and support police in recovering stolen property.  \nUsing our advanced forensic marking technology\, tools are permanently marked with a unique DNA code and microdots\, linking them back to the rightful owner. This community event raises awareness of crime prevention\, helps to reduce theft\, and gives people peace of mind. \nBy attending a Tool Marking Event\, you’ll increase security\, safeguard your livelihood\, and make stolen tools harder to sell.
URL:https://telltvl.co.uk/our-event/thames-valley-police-pcc-tool-marking-event-3/
LOCATION:Screwfix Tilehurst\, 110-112 Oxford Road\, Reading\, Berkshire\, RG30 6BX\, United Kingdom
CATEGORIES:Tool Marking Events
ATTACH;FMTTYPE=image/png:https://telltvl.co.uk/wp-content/uploads/2026/02/selectadna-logo_20180504.png
END:VEVENT
BEGIN:VEVENT
DTSTART;TZID=UTC:20260325T080000
DTEND;TZID=UTC:20260325T130000
DTSTAMP:20260423T231207
CREATED:20260225T094029Z
LAST-MODIFIED:20260225T094300Z
UID:9272-1774425600-1774443600@telltvl.co.uk
SUMMARY:Thames Valley Police & PCC | Tool Marking Event
DESCRIPTION:Tool theft is a growing problem for tradespeople\, businesses\, and local authorities. SelectaDNA Tool Marking Events provide an effective way to protect valuable equipment\, deter criminals\, and support police in recovering stolen property.  \nUsing our advanced forensic marking technology\, tools are permanently marked with a unique DNA code and microdots\, linking them back to the rightful owner. This community event raises awareness of crime prevention\, helps to reduce theft\, and gives people peace of mind. \nBy attending a Tool Marking Event\, you’ll increase security\, safeguard your livelihood\, and make stolen tools harder to sell.
URL:https://telltvl.co.uk/our-event/thames-valley-police-pcc-tool-marking-event-4/
LOCATION:Screwfix High Wycombe\, Cressex Business Park\, Unit 1 Cressex Business Park\, High Wycombe\, Buckinghamshire\, HP12 3QL\, United Kingdom
CATEGORIES:Tool Marking Events
ATTACH;FMTTYPE=image/png:https://telltvl.co.uk/wp-content/uploads/2026/02/selectadna-logo_20180504.png
END:VEVENT
BEGIN:VEVENT
DTSTART;TZID=UTC:20260330T080000
DTEND;TZID=UTC:20260330T120000
DTSTAMP:20260423T231207
CREATED:20260325T140217Z
LAST-MODIFIED:20260325T144152Z
UID:9287-1774857600-1774872000@telltvl.co.uk
SUMMARY:Thames Valley Police & PCC | Tool Marking Event
DESCRIPTION:Tool theft is a growing problem for tradespeople\, businesses\, and local authorities. SelectaDNA Tool Marking Events provide an effective way to protect valuable equipment\, deter criminals\, and support police in recovering stolen property.  \nUsing our advanced forensic marking technology\, tools are permanently marked with a unique DNA code and microdots\, linking them back to the rightful owner. This community event raises awareness of crime prevention\, helps to reduce theft\, and gives people peace of mind. \nBy attending a Tool Marking Event\, you’ll increase security\, safeguard your livelihood\, and make stolen tools harder to sell.
URL:https://telltvl.co.uk/our-event/thames-valley-police-pcc-tool-marking-event-6/
LOCATION:Toolstation Slough\, Toolstation\, Slough\, Berkshire\, SL1 4QA\, United Kingdom
CATEGORIES:Tool Marking Events
ATTACH;FMTTYPE=image/png:https://telltvl.co.uk/wp-content/uploads/2026/02/selectadna-logo_20180504.png
END:VEVENT
BEGIN:VEVENT
DTSTART;TZID=UTC:20260331T080000
DTEND;TZID=UTC:20260331T120000
DTSTAMP:20260423T231207
CREATED:20260225T094058Z
LAST-MODIFIED:20260325T144244Z
UID:9274-1774944000-1774958400@telltvl.co.uk
SUMMARY:Thames Valley Police & PCC | Tool Marking Event
DESCRIPTION:Tool theft is a growing problem for tradespeople\, businesses\, and local authorities. SelectaDNA Tool Marking Events provide an effective way to protect valuable equipment\, deter criminals\, and support police in recovering stolen property.  \nUsing our advanced forensic marking technology\, tools are permanently marked with a unique DNA code and microdots\, linking them back to the rightful owner. This community event raises awareness of crime prevention\, helps to reduce theft\, and gives people peace of mind. \nBy attending a Tool Marking Event\, you’ll increase security\, safeguard your livelihood\, and make stolen tools harder to sell.
URL:https://telltvl.co.uk/our-event/thames-valley-police-pcc-tool-marking-event-5/
LOCATION:Toolstation Oxford\, Botley Road\, Botley Road\, Oxford\, Oxfordshire\, OX2 0PB\, United Kingdom
CATEGORIES:Tool Marking Events
ATTACH;FMTTYPE=image/png:https://telltvl.co.uk/wp-content/uploads/2026/02/selectadna-logo_20180504.png
END:VEVENT
BEGIN:VEVENT
DTSTART;TZID=UTC:20260420T070000
DTEND;TZID=UTC:20260420T123000
DTSTAMP:20260423T231207
CREATED:20260415T132652Z
LAST-MODIFIED:20260415T132655Z
UID:9294-1776668400-1776688200@telltvl.co.uk
SUMMARY:Thames Valley Police & PCC | Tool Marking Event
DESCRIPTION:Tool theft is a growing problem for tradespeople\, businesses\, and local authorities. SelectaDNA Tool Marking Events provide an effective way to protect valuable equipment\, deter criminals\, and support police in recovering stolen property.  \nUsing our advanced forensic marking technology\, tools are permanently marked with a unique DNA code and microdots\, linking them back to the rightful owner. This community event raises awareness of crime prevention\, helps to reduce theft\, and gives people peace of mind. \nBy attending a Tool Marking Event\, you’ll increase security\, safeguard your livelihood\, and make stolen tools harder to sell.
URL:https://telltvl.co.uk/our-event/thames-valley-police-pcc-tool-marking-event-7/
LOCATION:Travis Perkins Cardiff\, E Bay Close Tyndall Street\, Cardiff\, South Glamorgan\, CF10 4SF\, United Kingdom
CATEGORIES:Tool Marking Events
ATTACH;FMTTYPE=image/png:https://telltvl.co.uk/wp-content/uploads/2026/02/selectadna-logo_20180504.png
END:VEVENT
END:VCALENDAR