BEGIN:VCALENDAR
VERSION:2.0
PRODID:-//Tell TVL - ECPv6.15.20//NONSGML v1.0//EN
CALSCALE:GREGORIAN
METHOD:PUBLISH
X-ORIGINAL-URL:https://telltvl.co.uk
X-WR-CALDESC:Events for Tell TVL
REFRESH-INTERVAL;VALUE=DURATION:PT1H
X-Robots-Tag:noindex
X-PUBLISHED-TTL:PT1H
BEGIN:VTIMEZONE
TZID:UTC
BEGIN:STANDARD
TZOFFSETFROM:+0000
TZOFFSETTO:+0000
TZNAME:UTC
DTSTART:20250101T000000
END:STANDARD
END:VTIMEZONE
BEGIN:VEVENT
DTSTART;TZID=UTC:20260128T090000
DTEND;TZID=UTC:20260128T130000
DTSTAMP:20260423T230835
CREATED:20260122T094144Z
LAST-MODIFIED:20260122T094144Z
UID:9198-1769590800-1769605200@telltvl.co.uk
SUMMARY:Wickes TradePro Tool Marking Event
DESCRIPTION:On Wednesday the 28th of January\, find out more about tool theft prevention with SmartWater’s tool marking kit.
URL:https://telltvl.co.uk/our-event/wickes-tradepro-tool-marking-event/
LOCATION:Wickes\, Bedford\, MK41 0UE\, United Kingdom
CATEGORIES:Tool Marking Events
END:VEVENT
END:VCALENDAR